BEGIN:VCALENDAR
VERSION:2.0
PRODID:-//Ground Up Training//Course Dates//EN
BEGIN:VEVENT
UID:2f4e7622-6c22-4c63-b493-9ba501eaee89@groundup-training
DTSTAMP:20260422T123256.894Z
DTSTART:20260427T083000Z
DTEND:20260505T153000Z
SUMMARY:20-13 CS38 Tree Climbing & Aerial Rescue - 6 days
DESCRIPTION:Tree climbing and aerial rescue training with assessment.
LOCATION:Landmark House\, 1 The Broadway\, Epping\, Essex IG10 2FA
END:VEVENT
END:VCALENDAR