BEGIN:VCALENDAR
VERSION:2.0
PRODID:-//Ground Up Training//Course Dates//EN
BEGIN:VEVENT
UID:41a83610-0e73-4921-b23c-36dcb4b60a23@groundup-training
DTSTAMP:20260422T122523.885Z
DTSTART:20260420T083000Z
DTEND:20260424T153000Z
SUMMARY:CS31 Felling Trees up to 380mm - 5 days
DESCRIPTION:Tree felling training for trees up to 380mm with assessment.
LOCATION:Landmark House\, 1 The Broadway\, Epping\, Essex IG10 2FA
END:VEVENT
END:VCALENDAR