BEGIN:VCALENDAR
VERSION:2.0
PRODID:-//Ground Up Training//Course Dates//EN
BEGIN:VEVENT
UID:7c4f9f37-baa9-41ab-a870-406b7837560d@groundup-training
DTSTAMP:20260422T125309.373Z
DTSTART:20260428T083000Z
DTEND:20260430T153000Z
SUMMARY:20-03 CS30 C/Saw Maintenance & Cross-Cutting - 3 days
DESCRIPTION:Chainsaw maintenance and cross-cutting training with assessment.
LOCATION:Landmark House\, 1 The Broadway\, Epping\, Essex IG10 2FA
END:VEVENT
END:VCALENDAR