BEGIN:VCALENDAR
VERSION:2.0
PRODID:-//Ground Up Training//Course Dates//EN
BEGIN:VEVENT
UID:8c3f7917-dfe3-4077-a708-8c1116bf4812@groundup-training
DTSTAMP:20260422T124416.916Z
DTSTART:20260506T083000Z
DTEND:20260508T153000Z
SUMMARY:21-08 CS39 Aerial Cutting of Trees with a Chainsaw - 3 days
DESCRIPTION:Aerial cutting of trees with a chainsaw training with assessment.
LOCATION:Landmark House\, 1 The Broadway\, Epping\, Essex IG10 2FA
END:VEVENT
END:VCALENDAR