BEGIN:VCALENDAR
VERSION:2.0
PRODID:-//Ground Up Training//Course Dates//EN
BEGIN:VEVENT
UID:bb1f2fc7-2dd0-4cbc-b848-925c8fb60d3c@groundup-training
DTSTAMP:20260422T124000.710Z
DTSTART:20260422T083000Z
DTEND:20260424T153000Z
SUMMARY:21-07 CS40 Level 3 Aerial Tree Pruning - 3 days
DESCRIPTION:Level 3 aerial tree pruning training with assessment.
LOCATION:Landmark House\, 1 The Broadway\, Epping\, Essex IG10 2FA
END:VEVENT
END:VCALENDAR